BEGIN:VCALENDAR
VERSION:2.0
PRODID:-//Linden Hills History Study Group - ECPv6.15.20//NONSGML v1.0//EN
CALSCALE:GREGORIAN
METHOD:PUBLISH
X-ORIGINAL-URL:https://lindenhillshistory.org
X-WR-CALDESC:Events for Linden Hills History Study Group
REFRESH-INTERVAL;VALUE=DURATION:PT1H
X-Robots-Tag:noindex
X-PUBLISHED-TTL:PT1H
BEGIN:VTIMEZONE
TZID:America/Chicago
BEGIN:DAYLIGHT
TZOFFSETFROM:-0600
TZOFFSETTO:-0500
TZNAME:CDT
DTSTART:20230312T080000
END:DAYLIGHT
BEGIN:STANDARD
TZOFFSETFROM:-0500
TZOFFSETTO:-0600
TZNAME:CST
DTSTART:20231105T070000
END:STANDARD
BEGIN:DAYLIGHT
TZOFFSETFROM:-0600
TZOFFSETTO:-0500
TZNAME:CDT
DTSTART:20240310T080000
END:DAYLIGHT
BEGIN:STANDARD
TZOFFSETFROM:-0500
TZOFFSETTO:-0600
TZNAME:CST
DTSTART:20241103T070000
END:STANDARD
BEGIN:DAYLIGHT
TZOFFSETFROM:-0600
TZOFFSETTO:-0500
TZNAME:CDT
DTSTART:20250309T080000
END:DAYLIGHT
BEGIN:STANDARD
TZOFFSETFROM:-0500
TZOFFSETTO:-0600
TZNAME:CST
DTSTART:20251102T070000
END:STANDARD
BEGIN:DAYLIGHT
TZOFFSETFROM:-0600
TZOFFSETTO:-0500
TZNAME:CDT
DTSTART:20260308T080000
END:DAYLIGHT
BEGIN:STANDARD
TZOFFSETFROM:-0500
TZOFFSETTO:-0600
TZNAME:CST
DTSTART:20261101T070000
END:STANDARD
BEGIN:DAYLIGHT
TZOFFSETFROM:-0600
TZOFFSETTO:-0500
TZNAME:CDT
DTSTART:20270314T080000
END:DAYLIGHT
BEGIN:STANDARD
TZOFFSETFROM:-0500
TZOFFSETTO:-0600
TZNAME:CST
DTSTART:20271107T070000
END:STANDARD
END:VTIMEZONE
BEGIN:VEVENT
DTSTART;TZID=America/Chicago:20241207T100000
DTEND;TZID=America/Chicago:20241207T120000
DTSTAMP:20260419T100255
CREATED:20240116T060239Z
LAST-MODIFIED:20241106T044926Z
UID:1262-1733565600-1733572800@lindenhillshistory.org
SUMMARY:Living New Deal / Twin Cities' Canceled Freeways with Aaron Isaacs
DESCRIPTION:During the Great Depression of the 1930s\, the federal government under President Franklin Roosevelt undertook a major investment in public infrastructure to fight unemployment and keep the economy afloat. Although it has been over 80 years since those projects were completed\, many are still in place\, functioning for what they were designed to do. Aaron Isaacs will show us sites in Minnesota. \nWe all know how I-94 and I-35W displaced African American neighborhoods. The impact on the Twin Cities could have been much more pronounced had eight other proposed urban freeways been built. Learn where they were supposed to go and how close they came to happening. \nAn optional lunch at Hilltop Restaurant (5101 Arcadia Ave.\, Edina)\, follows. Please make your lunch reservation below or call (612) 799-5141. Everyone is welcome.
URL:https://lindenhillshistory.org/event/living-new-deal-with-aaron-isaacs/
LOCATION:St. John’s Episcopal Church\, Linden Hills\, 4201 Sheridan Ave. S.\, Minneapolis\, MN\, 55410\, United States
CATEGORIES:LHHSG Event,LHHSG Lecture
ORGANIZER;CN="Linden Hills History Study Group":MAILTO:contact@lindenhillshistory.org
END:VEVENT
BEGIN:VEVENT
DTSTART;TZID=America/Chicago:20250127T190000
DTEND;TZID=America/Chicago:20250127T210000
DTSTAMP:20260419T100255
CREATED:20241231T063421Z
LAST-MODIFIED:20241231T063421Z
UID:1368-1738004400-1738011600@lindenhillshistory.org
SUMMARY:T.B. and Harriet Walker and their Contributions to Minneapolis
DESCRIPTION:Thomas Barlow (T.B.) Walker and Harriet Granger Hulet married and moved from Ohio to Minneapolis in 1863. They had eight children. T.B. began as a land surveyor. By 1923\, he transitioned successfully to the lumber industry and became one of the ten wealthiest people in the world. T.B. and Harriet were both philanthropy leaders in Minneapolis. They brought institutions from humble beginnings to city icons. These included Abbott Northwestern Hospital\, Minneapolis Public Library\, Walker Art Center\, Walker Methodist Church and Walker Place. Bob Bayers will describe this family and their many contributions\, and how Walker Place has evolved.
URL:https://lindenhillshistory.org/event/t-b-and-harriet-walker-and-their-contributions-to-minneapolis/
LOCATION:St. John’s Episcopal Church\, Linden Hills\, 4201 Sheridan Ave. S.\, Minneapolis\, MN\, 55410\, United States
CATEGORIES:LHHSG Event,LHHSG Lecture
ORGANIZER;CN="Linden Hills History Study Group":MAILTO:contact@lindenhillshistory.org
END:VEVENT
BEGIN:VEVENT
DTSTART;TZID=America/Chicago:20250310T190000
DTEND;TZID=America/Chicago:20250310T210000
DTSTAMP:20260419T100255
CREATED:20241231T063740Z
LAST-MODIFIED:20250219T155904Z
UID:1370-1741633200-1741640400@lindenhillshistory.org
SUMMARY:Sleuth Your Stoop - Become a House Detective. How to Begin!
DESCRIPTION:You live in an older house in the Twin Cities. Congratulations! Do you wonder when it was built? For how much? Who lived there? What did it look like? What were the surroundings? \nLocal historian Kathy Kullberg will share the tools and resources to find those answers\, and other interesting details of your building’s history. By the end of the evening\, you will be equipped for your own sleuthing.
URL:https://lindenhillshistory.org/event/sleuth-your-stoop-become-a-house-detective/
LOCATION:St. John’s Episcopal Church\, Linden Hills\, 4201 Sheridan Ave. S.\, Minneapolis\, MN\, 55410\, United States
CATEGORIES:LHHSG Event,LHHSG Lecture
ORGANIZER;CN="Linden Hills History Study Group":MAILTO:contact@lindenhillshistory.org
END:VEVENT
BEGIN:VEVENT
DTSTART;TZID=America/Chicago:20250602T190000
DTEND;TZID=America/Chicago:20250602T210000
DTSTAMP:20260419T100255
CREATED:20250117T060219Z
LAST-MODIFIED:20250501T015038Z
UID:1381-1748890800-1748898000@lindenhillshistory.org
SUMMARY:Prince: Places That Brought Minneapolis Music to the World
DESCRIPTION:By the time Prince was 18\, he was a fully realized and accomplished artist who could walk into the Sound 80 studio in Minneapolis’s Seward neighborhood and write\, produce\, record\, sing\, and perform all the instruments on his demo tape\, and then land a major recording contract by the time he was 19. How did the Minneapolis community he grew up in and the Great Migration which brought Prince’s ancestors to Minnesota influence his childhood and shape the artist he became? Archaeologist and historian Kristen Zschomler will help us gain a better understanding of this iconic singer songwriter musician.
URL:https://lindenhillshistory.org/event/princes-side-of-the-street/
LOCATION:St. John’s Episcopal Church\, Linden Hills\, 4201 Sheridan Ave. S.\, Minneapolis\, MN\, 55410\, United States
CATEGORIES:LHHSG Event,LHHSG Lecture
ORGANIZER;CN="Linden Hills History Study Group":MAILTO:contact@lindenhillshistory.org
END:VEVENT
BEGIN:VEVENT
DTSTART;TZID=America/Chicago:20250724T183000
DTEND;TZID=America/Chicago:20250724T203000
DTSTAMP:20260419T100255
CREATED:20250219T155307Z
LAST-MODIFIED:20250627T040843Z
UID:1403-1753381800-1753389000@lindenhillshistory.org
SUMMARY:Southwest of Lake Harriet: From Mrs. Thornton's Resort to the Fulton Neighborhood
DESCRIPTION:We will explore the evolution of this corner of the Fulton neighborhood from its beginning as a rural lake resort through the rapid extension south of Linden Hills. From the opening of Robert Fulton School in 1911 and the Xerxes Avenue streetcar line extension that soon followed\, Fulton spread across both hills and former marshland. We will learn of early residents preceding 1911\, including Black families\, trace how public-school needs have been met in the Lake Harriet district\, pass by the original building of Lake Harriet Methodist Church\, moved in 1916 to 49th and York\, and view the ongoing change in character of Fulton due to recently built houses replacing earlier ones.   \nThe tours will begin at 6:30 p.m. from the corner of Thomas Avenue S. and W. Lake Harriet Parkway. The tour will be held rain or shine\, except if an electrical storm is forecasted for the day of the event. Those wishing to attend should RSVP below.
URL:https://lindenhillshistory.org/event/southwest-of-lake-harriet-from-mrs-thorntons-resort-to-the-fulton-neighborhood-2/
LOCATION:Lake Harriet at Thomas Avenue\, 4740 Thomas Ave. S.\, Minneapolis\, MN\, United States
CATEGORIES:LHHSG Event,LHHSG Walking Tour
ORGANIZER;CN="Linden Hills History Study Group":MAILTO:contact@lindenhillshistory.org
END:VEVENT
BEGIN:VEVENT
DTSTART;TZID=America/Chicago:20250731T183000
DTEND;TZID=America/Chicago:20250731T203000
DTSTAMP:20260419T100255
CREATED:20250219T155205Z
LAST-MODIFIED:20250723T163654Z
UID:1400-1753986600-1753993800@lindenhillshistory.org
SUMMARY:Southwest of Lake Harriet: From Mrs. Thornton's Resort to the Fulton Neighborhood
DESCRIPTION:RESCHEDULED from July 23 due to inclement weather. \nWe will explore the evolution of this corner of the Fulton neighborhood from its beginning as a rural lake resort through the rapid extension south of Linden Hills. From the opening of Robert Fulton School in 1911 and the Xerxes Avenue streetcar line extension that soon followed\, Fulton spread across both hills and former marshland. We will learn of early residents preceding 1911\, including Black families\, trace how public-school needs have been met in the Lake Harriet district\, pass by the original building of Lake Harriet Methodist Church\, moved in 1916 to 49th and York\, and view the ongoing change in character of Fulton due to recently built houses replacing earlier ones.   \nThe tours will begin at 6:30 p.m. from the corner of Thomas Avenue S. and W. Lake Harriet Parkway. The tour will be held rain or shine\, except if an electrical storm is forecasted for the day of the event. Those wishing to attend should RSVP below.
URL:https://lindenhillshistory.org/event/southwest-of-lake-harriet-from-mrs-thorntons-resort-to-the-fulton-neighborhood/
LOCATION:Lake Harriet at Thomas Avenue\, 4740 Thomas Ave. S.\, Minneapolis\, MN\, United States
CATEGORIES:LHHSG Event,LHHSG Walking Tour
ORGANIZER;CN="Linden Hills History Study Group":MAILTO:contact@lindenhillshistory.org
END:VEVENT
BEGIN:VEVENT
DTSTART;TZID=America/Chicago:20250908T190000
DTEND;TZID=America/Chicago:20250908T210000
DTSTAMP:20260419T100255
CREATED:20250117T060519Z
LAST-MODIFIED:20250731T160301Z
UID:1385-1757358000-1757365200@lindenhillshistory.org
SUMMARY:Growing Up in Linden Hills: The Fine Boys and Their Families
DESCRIPTION:Bob Fine — and family members — will reflect on the people\, places\, and experiences of Linden Hills in the 1950s. Bob grew up hanging out at the library\, the lake\, and the parks. He graduated from Southwest High School and the University of Minnesota and came back to Linden Hills after law school in St. Louis. He raised his children in Linden Hills and lives just around the block from his childhood home. \nWhat was it like growing up in Linden Hills post-World War II? What’s changed over the past 75 years? What issues has the neighborhood faced? What’s still worth celebrating? \nBob\, a coach to more than a thousand children\, a Minneapolis Park Board commissioner\, a candidate for mayor\, a Linden Hills Neighborhood Council board member\, and more\, is uniquely qualified to talk about the more recent history of the neighborhood and the city.
URL:https://lindenhillshistory.org/event/growing-up-in-linden-hills-the-fine-boys-and-their-families/
LOCATION:St. John’s Episcopal Church\, Linden Hills\, 4201 Sheridan Ave. S.\, Minneapolis\, MN\, 55410\, United States
CATEGORIES:LHHSG Event,LHHSG Lecture
ORGANIZER;CN="Linden Hills History Study Group":MAILTO:contact@lindenhillshistory.org
END:VEVENT
BEGIN:VEVENT
DTSTART;TZID=America/Chicago:20251020T190000
DTEND;TZID=America/Chicago:20251020T210000
DTSTAMP:20260419T100255
CREATED:20250117T060923Z
LAST-MODIFIED:20250219T155505Z
UID:1387-1760986800-1760994000@lindenhillshistory.org
SUMMARY:Finding Homes for Our Treasures
DESCRIPTION:Do you have material handed down from family? Letters\, photos\, maps of your hometown? Collections of Rosewood pottery? Ted Hathaway from Hennepin County Library-Minneapolis Central Library’s Special Collections\, Yves Hoppie from Minnesota Historical Society Collections Dept.\, and Jonathan Campbell from H&B Gallery-antique shop will help us evaluate our possessions and learn what a repository or a business might be interested in acquiring\, and what they have to offer in terms of preservation\, sharing with the broader community\, or resale.
URL:https://lindenhillshistory.org/event/finding-homes-for-our-treasures/
LOCATION:St. John’s Episcopal Church\, Linden Hills\, 4201 Sheridan Ave. S.\, Minneapolis\, MN\, 55410\, United States
CATEGORIES:LHHSG Event,LHHSG Lecture
ORGANIZER;CN="Linden Hills History Study Group":MAILTO:contact@lindenhillshistory.org
END:VEVENT
BEGIN:VEVENT
DTSTART;TZID=America/Chicago:20251206T100000
DTEND;TZID=America/Chicago:20251206T120000
DTSTAMP:20260419T100255
CREATED:20250117T061032Z
LAST-MODIFIED:20251125T045440Z
UID:1389-1765015200-1765022400@lindenhillshistory.org
SUMMARY:The Most Competitive Passenger Corridor: Chicago—Twin Cities
DESCRIPTION:From the 1890s to the 1960s\, the best passenger trains in North America traveled between the Twin Cities and Chicago. Until World War I\, seven railroads competed for the business. Four continued to do so after World War II. Starting in the 1930s\, the competition resulted in the Burlington’s Zephyrs\, the Milwaukee Road’s Hiawatha\, and the Chicago & North Western’s 400\, the nation’s fastest trains. Author Aaron Isaacs will tell their story\, based on his latest book. \nAn optional lunch at Hilltop Restaurant (5101 Arcadia Ave\, Edina\, MN 55436) follows the presentation. Please make your lunch reservation by RSVPing below\, or call (612) 799-5141.
URL:https://lindenhillshistory.org/event/the-most-competitive-passenger-corridor-chicago-twin-cities/
LOCATION:St. John’s Episcopal Church\, Linden Hills\, 4201 Sheridan Ave. S.\, Minneapolis\, MN\, 55410\, United States
CATEGORIES:LHHSG Event,LHHSG Lecture
ATTACH;FMTTYPE=application/pdf:https://lindenhillshistory.org/wp-content/uploads/2025/01/2025-Oct-Front-PFD-Single.pdf
ORGANIZER;CN="Linden Hills History Study Group":MAILTO:contact@lindenhillshistory.org
END:VEVENT
BEGIN:VEVENT
DTSTART;TZID=America/Chicago:20260126T190000
DTEND;TZID=America/Chicago:20260126T210000
DTSTAMP:20260419T100255
CREATED:20251205T183955Z
LAST-MODIFIED:20260101T172835Z
UID:1522-1769454000-1769461200@lindenhillshistory.org
SUMMARY:Modernist Monuments: Minneapolis Post-War Places of Worship
DESCRIPTION:Minneapolis became a hotbed of modernist religious architecture in the years after World War II. With illustrated slides\, Bobak Ha’Eri will explain the rise of modernism\, its arrival in Minnesota\, and how it expressed itself through places of worship across the city.  Mr. Ha’Eri is a board member of Docomomo US/MN where he created and researches the award-winning Minnesota Modern Registry\, and is an expert on the history of Modernism in Minnesota.
URL:https://lindenhillshistory.org/event/modernist-monuments-minneapolis-post-war-places-of-worship/
LOCATION:St. John’s Episcopal Church\, Linden Hills\, 4201 Sheridan Ave. S.\, Minneapolis\, MN\, 55410\, United States
CATEGORIES:LHHSG Event,LHHSG Lecture
ATTACH;FMTTYPE=image/jpeg:https://lindenhillshistory.org/wp-content/uploads/2025/12/Postcard-siingle-page.jpg
ORGANIZER;CN="Linden Hills History Study Group":MAILTO:contact@lindenhillshistory.org
END:VEVENT
BEGIN:VEVENT
DTSTART;TZID=America/Chicago:20260309T190000
DTEND;TZID=America/Chicago:20260309T210000
DTSTAMP:20260419T100255
CREATED:20251205T184147Z
LAST-MODIFIED:20260227T190023Z
UID:1524-1773082800-1773090000@lindenhillshistory.org
SUMMARY:History of Puppetry in the Twin Cities
DESCRIPTION:Local puppeteer and historian\, Jennings Mergenthal\, has just completed an extensive research project focused on the history of puppetry in the Twin Cities\, exploring where puppetry came from and why it has been so enduring. The local puppetry guild\, the Twin Cities Puppeteers\, will display historically significant puppets as well as photos and ephemera.
URL:https://lindenhillshistory.org/event/history-of-puppetry-in-the-twin-cities/
LOCATION:St. John’s Episcopal Church\, Linden Hills\, 4201 Sheridan Ave. S.\, Minneapolis\, MN\, 55410\, United States
CATEGORIES:LHHSG Event,LHHSG Lecture
ATTACH;FMTTYPE=image/jpeg:https://lindenhillshistory.org/wp-content/uploads/2025/12/Single-front-view-.jpg
ORGANIZER;CN="Linden Hills History Study Group":MAILTO:contact@lindenhillshistory.org
END:VEVENT
BEGIN:VEVENT
DTSTART;TZID=America/Chicago:20260427T190000
DTEND;TZID=America/Chicago:20260427T210000
DTSTAMP:20260419T100255
CREATED:20251205T184340Z
LAST-MODIFIED:20251205T184455Z
UID:1526-1777316400-1777323600@lindenhillshistory.org
SUMMARY:Ghost of a Chance with Eric Roper
DESCRIPTION:Harry and Clementine Robinson were one of a handful of Black families who owned homes more than a century ago in what is now the whitest part of Minneapolis. When Star Tribune  reporter Eric Roper moved into the same house where the Robinsons lived\, he became determined to find out who they were and what happened to them. He spent nearly five years piecing together the Robinsons’ lives through genealogy records\, old public documents\, and fascinating tidbits from articles in local Black newspapers from the 1900s. He\, with a team of other staff members and community members\, wrote a series of articles published as a special insert in the Star Tribune. In addition\, they created a six-episode podcast that takes listeners on an intimate journey into Minnesota’s past through the experiences of this one trailblazing couple.
URL:https://lindenhillshistory.org/event/ghost-of-a-chance-with-eric-roper/
LOCATION:St. John’s Episcopal Church\, Linden Hills\, 4201 Sheridan Ave. S.\, Minneapolis\, MN\, 55410\, United States
CATEGORIES:LHHSG Event,LHHSG Lecture
ORGANIZER;CN="Linden Hills History Study Group":MAILTO:contact@lindenhillshistory.org
END:VEVENT
END:VCALENDAR