BEGIN:VCALENDAR
VERSION:2.0
PRODID:-//Linden Hills History Study Group - ECPv6.15.20//NONSGML v1.0//EN
CALSCALE:GREGORIAN
METHOD:PUBLISH
X-ORIGINAL-URL:https://lindenhillshistory.org
X-WR-CALDESC:Events for Linden Hills History Study Group
REFRESH-INTERVAL;VALUE=DURATION:PT1H
X-Robots-Tag:noindex
X-PUBLISHED-TTL:PT1H
BEGIN:VTIMEZONE
TZID:America/Chicago
BEGIN:DAYLIGHT
TZOFFSETFROM:-0600
TZOFFSETTO:-0500
TZNAME:CDT
DTSTART:20250309T080000
END:DAYLIGHT
BEGIN:STANDARD
TZOFFSETFROM:-0500
TZOFFSETTO:-0600
TZNAME:CST
DTSTART:20251102T070000
END:STANDARD
BEGIN:DAYLIGHT
TZOFFSETFROM:-0600
TZOFFSETTO:-0500
TZNAME:CDT
DTSTART:20260308T080000
END:DAYLIGHT
BEGIN:STANDARD
TZOFFSETFROM:-0500
TZOFFSETTO:-0600
TZNAME:CST
DTSTART:20261101T070000
END:STANDARD
BEGIN:DAYLIGHT
TZOFFSETFROM:-0600
TZOFFSETTO:-0500
TZNAME:CDT
DTSTART:20270314T080000
END:DAYLIGHT
BEGIN:STANDARD
TZOFFSETFROM:-0500
TZOFFSETTO:-0600
TZNAME:CST
DTSTART:20271107T070000
END:STANDARD
END:VTIMEZONE
BEGIN:VEVENT
DTSTART;TZID=America/Chicago:20260309T190000
DTEND;TZID=America/Chicago:20260309T210000
DTSTAMP:20260419T113649
CREATED:20251205T184147Z
LAST-MODIFIED:20260227T190023Z
UID:1524-1773082800-1773090000@lindenhillshistory.org
SUMMARY:History of Puppetry in the Twin Cities
DESCRIPTION:Local puppeteer and historian\, Jennings Mergenthal\, has just completed an extensive research project focused on the history of puppetry in the Twin Cities\, exploring where puppetry came from and why it has been so enduring. The local puppetry guild\, the Twin Cities Puppeteers\, will display historically significant puppets as well as photos and ephemera.
URL:https://lindenhillshistory.org/event/history-of-puppetry-in-the-twin-cities/
LOCATION:St. John’s Episcopal Church\, Linden Hills\, 4201 Sheridan Ave. S.\, Minneapolis\, MN\, 55410\, United States
CATEGORIES:LHHSG Event,LHHSG Lecture
ATTACH;FMTTYPE=image/jpeg:https://lindenhillshistory.org/wp-content/uploads/2025/12/Single-front-view-.jpg
ORGANIZER;CN="Linden Hills History Study Group":MAILTO:contact@lindenhillshistory.org
END:VEVENT
BEGIN:VEVENT
DTSTART;TZID=America/Chicago:20260427T190000
DTEND;TZID=America/Chicago:20260427T210000
DTSTAMP:20260419T113649
CREATED:20251205T184340Z
LAST-MODIFIED:20251205T184455Z
UID:1526-1777316400-1777323600@lindenhillshistory.org
SUMMARY:Ghost of a Chance with Eric Roper
DESCRIPTION:Harry and Clementine Robinson were one of a handful of Black families who owned homes more than a century ago in what is now the whitest part of Minneapolis. When Star Tribune  reporter Eric Roper moved into the same house where the Robinsons lived\, he became determined to find out who they were and what happened to them. He spent nearly five years piecing together the Robinsons’ lives through genealogy records\, old public documents\, and fascinating tidbits from articles in local Black newspapers from the 1900s. He\, with a team of other staff members and community members\, wrote a series of articles published as a special insert in the Star Tribune. In addition\, they created a six-episode podcast that takes listeners on an intimate journey into Minnesota’s past through the experiences of this one trailblazing couple.
URL:https://lindenhillshistory.org/event/ghost-of-a-chance-with-eric-roper/
LOCATION:St. John’s Episcopal Church\, Linden Hills\, 4201 Sheridan Ave. S.\, Minneapolis\, MN\, 55410\, United States
CATEGORIES:LHHSG Event,LHHSG Lecture
ORGANIZER;CN="Linden Hills History Study Group":MAILTO:contact@lindenhillshistory.org
END:VEVENT
END:VCALENDAR